BEGIN:VCALENDAR
VERSION:2.0
PRODID:-//End of Life Options Colorado - ECPv6.15.20//NONSGML v1.0//EN
CALSCALE:GREGORIAN
METHOD:PUBLISH
X-WR-CALNAME:End of Life Options Colorado
X-ORIGINAL-URL:https://endoflifeoptionscolorado.org
X-WR-CALDESC:Events for End of Life Options Colorado
REFRESH-INTERVAL;VALUE=DURATION:PT1H
X-Robots-Tag:noindex
X-PUBLISHED-TTL:PT1H
BEGIN:VTIMEZONE
TZID:UTC
BEGIN:STANDARD
TZOFFSETFROM:+0000
TZOFFSETTO:+0000
TZNAME:UTC
DTSTART:20250101T000000
END:STANDARD
END:VTIMEZONE
BEGIN:VEVENT
DTSTART;TZID=UTC:20260607T080000
DTEND;TZID=UTC:20260607T120000
DTSTAMP:20260425T185942
CREATED:20260416T224307Z
LAST-MODIFIED:20260416T224307Z
UID:3482-1780819200-1780833600@endoflifeoptionscolorado.org
SUMMARY:2nd Annual Conference:
DESCRIPTION:Join us for the 2nd Annual Conference: Empowering End of Life Care: Medical Aid in Dying.  Hear the great speaker lineup and network with other end of life professionals.
URL:https://endoflifeoptionscolorado.org/event/2nd-annual-conference/
LOCATION:Table Mountain Events Center\, 16035 Table Mountain Parkway\, Golden\, CO\, 80403\, United States
END:VEVENT
END:VCALENDAR