BEGIN:VCALENDAR
VERSION:2.0
PRODID:-//End of Life Options Colorado - ECPv6.15.20//NONSGML v1.0//EN
CALSCALE:GREGORIAN
METHOD:PUBLISH
X-WR-CALNAME:End of Life Options Colorado
X-ORIGINAL-URL:https://endoflifeoptionscolorado.org
X-WR-CALDESC:Events for End of Life Options Colorado
REFRESH-INTERVAL;VALUE=DURATION:PT1H
X-Robots-Tag:noindex
X-PUBLISHED-TTL:PT1H
BEGIN:VTIMEZONE
TZID:UTC
BEGIN:STANDARD
TZOFFSETFROM:+0000
TZOFFSETTO:+0000
TZNAME:UTC
DTSTART:20230101T000000
END:STANDARD
END:VTIMEZONE
BEGIN:VTIMEZONE
TZID:UTC
BEGIN:STANDARD
TZOFFSETFROM:+0000
TZOFFSETTO:+0000
TZNAME:UTC
DTSTART:20220101T000000
END:STANDARD
END:VTIMEZONE
BEGIN:VEVENT
DTSTART;TZID=UTC:20250210T180000
DTEND;TZID=UTC:20250210T193000
DTSTAMP:20260426T013024
CREATED:20250207T150917Z
LAST-MODIFIED:20250207T151021Z
UID:2651-1739210400-1739215800@endoflifeoptionscolorado.org
SUMMARY:Aging in Place in the Gunnison Valley: A Primer for Adult Children of Seniors (Virtual Session)
DESCRIPTION:Please join us if you are curious about resources to support your seniors as they age in place in the Gunnison Valley or if your seniors are considering a move to the valley to be closer to family. Presentation of long term planning resources followed by question and answer time.
URL:https://endoflifeoptionscolorado.org/event/aging-in-place-in-the-gunnison-valley-a-primer-for-adult-children-of-seniors-virtual-session/
END:VEVENT
BEGIN:VEVENT
DTSTART;TZID=UTC:20241227T143000
DTEND;TZID=UTC:20241227T160000
DTSTAMP:20260426T013024
CREATED:20241227T164708Z
LAST-MODIFIED:20241227T164708Z
UID:2508-1735309800-1735315200@endoflifeoptionscolorado.org
SUMMARY:Signing Party - Advance Directives - Park Hill Library
DESCRIPTION:Signing Party!!! Sign your Advance Directives.
URL:https://endoflifeoptionscolorado.org/event/signing-party-advance-directives-park-hill-library/
LOCATION:Parkhill Library
CATEGORIES:Advance Care Planning
END:VEVENT
BEGIN:VEVENT
DTSTART;TZID=UTC:20241227T143000
DTEND;TZID=UTC:20241227T160000
DTSTAMP:20260426T013024
CREATED:20241227T164412Z
LAST-MODIFIED:20241227T164412Z
UID:2505-1735309800-1735315200@endoflifeoptionscolorado.org
SUMMARY:Advance Care Planning Workshop - Parkhill Library
DESCRIPTION:Advance Directive Workshop
URL:https://endoflifeoptionscolorado.org/event/advance-care-planning-workshop-parkhill-library/
LOCATION:Parkhill Library
CATEGORIES:Advance Care Planning
END:VEVENT
BEGIN:VEVENT
DTSTART;TZID=UTC:20240528T080000
DTEND;TZID=UTC:20240528T170000
DTSTAMP:20260426T013024
CREATED:20240528T135335Z
LAST-MODIFIED:20240528T135335Z
UID:1890-1716883200-1716915600@endoflifeoptionscolorado.org
SUMMARY:ACP Workshop
DESCRIPTION:Sigrid Swerdlin\, BOD Secretary – Treasurer\, will present. \n 
URL:https://endoflifeoptionscolorado.org/event/acp-workshop/
END:VEVENT
BEGIN:VEVENT
DTSTART;TZID=UTC:20230307T180000
DTEND;TZID=UTC:20230307T193000
DTSTAMP:20260426T013024
CREATED:20230221T201915Z
LAST-MODIFIED:20230221T201915Z
UID:651-1678212000-1678217400@endoflifeoptionscolorado.org
SUMMARY:Board of Directors Meeting
DESCRIPTION:
URL:https://endoflifeoptionscolorado.org/event/board-of-directors-meeting/
END:VEVENT
END:VCALENDAR